BEGIN:VCALENDAR
VERSION:2.0
PRODID:-//World Case Committee - ECPv6.2.9//NONSGML v1.0//EN
CALSCALE:GREGORIAN
METHOD:PUBLISH
X-WR-CALNAME:World Case Committee
X-ORIGINAL-URL:https://theworldcase.com
X-WR-CALDESC:Events for World Case Committee
REFRESH-INTERVAL;VALUE=DURATION:PT1H
X-Robots-Tag:noindex
X-PUBLISHED-TTL:PT1H
BEGIN:VTIMEZONE
TZID:UTC
BEGIN:STANDARD
TZOFFSETFROM:+0000
TZOFFSETTO:+0000
TZNAME:UTC
DTSTART:20230101T000000
END:STANDARD
END:VTIMEZONE
BEGIN:VEVENT
DTSTART;TZID=UTC:20231120T080000
DTEND;TZID=UTC:20240127T170000
DTSTAMP:20260423T084726
CREATED:20231231T122346Z
LAST-MODIFIED:20231231T123733Z
UID:1670-1700467200-1706374800@theworldcase.com
SUMMARY:Digital Innovation Challenge Case Competition - Steve and Tina Wilson Family Foundation
DESCRIPTION:Register directly through their website\nIf you RSVP on our website\, we will transfer the responses to our partner organizer. \nPlease note that the top finalists will have to travel to the finale competition at University of Calgary. The competition will aid a portion of the travelling fund but not all.   \nThe Haskayne School of Business is pleased to host its annual Digital Workplace Innovation Case Competition presented by the Steve and Tine Wilson Family Foundation.  If you are interested in AI and technology\, or your background is business\, mathematics\, engineering\, or computer science then this competition will be of particular interest to you! \nBenefits to participating in competitions are: \n\nApply classroom knowledge\nGain unique experience for your resume\n\n\nChallenge yourself\nCompete against others in a fun environment\n\nImportant dates\nNovember 20\, 2023 – January 15\, 2024:\nRegistration Period \nJanuary 27\, 2024:\nPreliminary Rounds (online) \nMarch 14\, & 15\, 2024:\nCompetition Finals
URL:https://theworldcase.com/index.php/event/digital-innovation-challenge-case-competition-steve-and-tina-wilson-family-foundation/
LOCATION:University of calgary
ATTACH;FMTTYPE=image/jpeg:https://theworldcase.com/wp-content/uploads/2023/12/download.jpg
END:VEVENT
END:VCALENDAR